Workbook
Name aas: #REF!
Name aas: #REF!
Name aas: #REF!
Name aas: #REF!
Name aas: #REF!
Name aas: #REF!
Name ASD: #REF!
Name ASD: #REF!
Name ASD: #REF!
Name ASD: #REF!
Name ASD: #REF!
Name ASD: #REF!
Name CODIGOS: [1]Hoja4!$A$2:$A$67
Name DESCRIPCION: [1]Hoja4!$C$2:$C$67
Name eee: #REF!
Name eee: #REF!
Name eee: #REF!
Name eee: #REF!
Name eee: #REF!
Name eee: #REF!
Name QAZ: #REF!
Name QAZ: #REF!
Name QAZ: #REF!
Name QAZ: #REF!
Name QAZ: #REF!
Name QAZ: #REF!
Name qwe: '[2]2017'!#REF!
Name qwe: '[2]2017'!#REF!
Name qwe: '[2]2017'!#REF!
Name qwe: '[2]2017'!#REF!
Name qwe: '[2]2017'!#REF!
Name qwe: '[2]2017'!#REF!
Name rr: [3]Hoja1!$A$3:$N$80
Name rrr: '[2]2016'!#REF!
Name rrr: '[2]2016'!#REF!
Name rrr: '[2]2016'!#REF!
Name rrr: '[2]2016'!#REF!
Name rrr: '[2]2016'!#REF!
Name rrr: '[2]2016'!#REF!
Name TABLA: #REF!
Name TABLA: #REF!
Name TABLA: #REF!
Name TABLA: #REF!
Name TABLA: #REF!
Name TABLA: #REF!
Name tt: '[2]2016'!#REF!
Name tt: '[2]2016'!#REF!
Name tt: '[2]2016'!#REF!
Name tt: '[2]2016'!#REF!
Name tt: '[2]2016'!#REF!
Name tt: '[2]2016'!#REF!
Name WWW: #REF!
Name WWW: #REF!
Name WWW: #REF!
Name WWW: #REF!
Name WWW: #REF!
Name WWW: #REF!

Sheet INSTRUCCIONES por partida
C1: INSTRUCCIONES PARA LA CUMPLIMENTACIÓN DE ESTADO DE MEDICIONES Y FORMULARIO DE OFERTA ECONÓMICA - N202400604
B4: # | C4: DESCRIPCIÓN DE TAREA / COMENTARIO | J4: HIPERVÍNCULO
B5: 1 | C5: El estado mediciones deberá cumplimentarse y adjuntarse junto a la oferta OBLIGATORIAMENTE por cada lote que se presente oferta, en caso de omisión la oferta quedará RECHAZADA.
B6: 2 | C6: Deberá ofertarse por todos y cada una de las partidas existentes en la hoja "Oferta nº X", por cada lote que se quiera presentar oferta. De no ser así, se interpretará por la Mutua que el precio ofrecido para esa/s partida/s concreta/s afectadas por la omisión es del importe máximo previsto.
B7: 3 | C7: Los valores ofertados por cada partida, corresponden a precios PEC (deben incluir Gastos Generales y Beneficio Industrial)
B8: 4 | C8: Se debe introducir el precio ofertado por cada partida, en las celdas de color "VERDE" que se encuentran en la columna "F" de cada Estado de Mediciones. | J8: LOTE 1 | K8: LOTE 2 | L8: LOTE 3 | M8: LOTE 4 | N8: LOTE 5
B9: 5 | C9: Bajo ningún concepto podrán modificarse las partidas establecidas y, en caso de producirse alguna variación, supondrá el rechazo de la oferta.
B10: 6 | C10: En caso de existir discordancia entre el importe global (total ofertado por el licitador) y la suma de los resultados parciales identificados en el estado de mediciones (por partidas y capítulos) se tomará como correcto el que corresponda a la suma resultante de tales partidas.
B11: 7 | C11: Se deberá entregar un archivo Excel independiente por cada lote al que se presente oferta.
B12: 8 | C12: Cumplimentar "Formulario de Oferta Económica" y firmar digitalmente en formato PDF por apoderado/representante de la empresa.

Sheet Oferta Lote 1
A1: LOTE 1: CATALUNYA
A2: MC Mutual: Listado de partidas revestimientos, climatización y baja tensión
C3: CONCEPTO | D3: PRECIO PERIODO INICIAL
D4: (UN AÑO)
C5: ESTADO DE MEDICIONES VALORADO sin IVA | D5: =SUM(J10:J225) -> 0 | E5: ------------>
C6: I.V.A. (21 %) | D6: =+D5*0.21 -> 0 | F6: VALORES QUE SE DEBERÁN UTILIZAR PARA CUMPLIMENTAR EL FORMULARIO DE OFERTA ECONÓMICA
C7: TOTAL con I.V.A. | D7: =+D6+D5 -> 0
A9: Código | B9: Ud | C9: Resumen | D9: Consumo 4 años | E9: Precio unitario máximo (€) | F9: Valor unitario ofertado | H9: Precio total partida (4 AÑOS) | J9: Precio total partida (1 AÑO)
A10: 1 | C10: ALBAÑILERÍA, REVOCOS, ALICATADOS y PINTURA
A11: 01.01 | B11: ud | C11: REFUERZO DE PLADUR | D11: =+VLOOKUP(A11,BBDD!A:J,4,0) -> 160 | E11: =+VLOOKUP(A11,BBDD!A:J,10,0) -> 23 | H11: =D11*$F11 -> 0 | J11: =+D11*$F11/4 -> 0
C12: Suministro de refuerzo puntual de madera para estructura de tabique de cartón-yeso, destinado a la colocación de elementos suspendidos (pasamanos, accesorios minusválidos, televisión, etc.). Dimensiones de cada refuerzo: ancho entre perfiles y alto de unos 40 cm, replanteados según especificaciones de la propiedad. No incluye mano de obra. Incluye maquinaria específica y materiales necesarios para su instalación posterior
A13: 01.02 | B13: m2 | C13: ALICATADO CERÁMICO BLANCO 20x30cm | D13: =+VLOOKUP(A13,BBDD!A:J,4,0) -> 60.416667 | E13: =+VLOOKUP(A13,BBDD!A:J,10,0) -> 36 | H13: =D13*$F13 -> 0 | J13: =+D13*$F13/4 -> 0
C14: Suministro de paramento vertical interior a una altura <= 3 m con de plaqueta de semigrés de medidas 20x30 en color blanco mate, colocada en horizontal, con lechada de color blanco, colocadas con adhesivo para baldosa cerámica C2 TE (UNE-EN 12004) y rejuntado con lechada CG2 (UNE-EN 13888). Criterio de medición: En revestimiento de paramentos, con deducción de la superficie correspondiente a huecos de acuerdo con los criterios siguientes: - Huecos <= 1 m2: No se deducen - Huecos > 1 m2 y <= 2 m2: Se deduce el 50% - Huecos > 2 m2: Se deduce el 100% Los huecos que no se deduzcan, o que se deduzcan parcialmente, la medición incluye los trabajos de hacer los retornos, como jambas, dinteles, etc. En el caso que se deduzca el 100% del hueco, se deben medir también estos paramentos. En caso de exixtir alicatado en el paramentos , el nuevo será igual al existente. No incluye mano de obra. Toda la maquinaria específica y los insumos necesarios para la instalación están incluidos en el precio.
A15: 01.03 | B15: m2 | C15: ALICATADO MARMI CHINA PORCELANOSA 32x90cm | D15: =+VLOOKUP(A15,BBDD!A:J,4,0) -> 68.333333 | E15: =+VLOOKUP(A15,BBDD!A:J,10,0) -> 48 | H15: =D15*$F15 -> 0 | J15: =+D15*$F15/4 -> 0
C16: Suministro de alicatado de paramento vertical interior a una altura <= 3 m con baldosa de cerámica esmaltada mate, azulejo, grupo BIII (UNE-EN 14411), precio superior, de 1 a 5 piezas/m2 tipo ref. P3470131 de la serie Marmi China de PORCELANOSA con medidas de pieza 90x32cm colocadas en horizontal o equivalente colocadas con adhesivo para baldosa cerámica C2 TE (UNE-EN 12004) y rejuntado con lechada CG2 (UNE-EN 13888). Criterio de medición: En revestimiento de paramentos, con deducción de la superficie correspondiente a huecos de acuerdo con los criterios siguientes: - Huecos <= 1 m2: No se deducen - Huecos > 1 m2 y <= 2 m2: Se deduce el 50% - Huecos > 2 m2: Se deduce el 100% Los huecos que no se deduzcan, o que se deduzcan parcialmente, la medición incluye los trabajos de hacer los retornos, como jambas, dinteles, etc. En el caso que se deduzca el 100% del hueco, se deben medir también estos paramentos. No incluye mano de obra. Toda la maquinaria específica y los insumos necesarios para la instalación están incluidos en el precio.
A17: 01.04 | B17: m2 | C17: CHAPADO PARA FACHADA DE GRANITO | D17: =+VLOOKUP(A17,BBDD!A:J,4,0) -> 20 | E17: =+VLOOKUP(A17,BBDD!A:J,10,0) -> 89 | H17: =D17*$F17 -> 0 | J17: =+D17*$F17/4 -> 0
C18: Suministro de chapado con placas mecanizadas de granito Gris Quintana, acabado pulido, con medidas y despiece según piezas existentes, fijado con adhesivo cementoso mejorado, C2 TE, con deslizamiento reducido y tiempo abierto ampliado, gris, y grapas de anclaje de acero inoxidable; rejuntado con mortero de juntas cementoso, CG1, para junta mínima (entre 1,5 y 3 mm), con la misma tonalidad de las piezas. Criterio de medición: En revestimiento de paramentos, con deducción de la superficie correspondiente a huecos de acuerdo con los criterios siguientes: - Huecos <= 1 m2: No se deducen - Huecos > 1 m2 y <= 2 m2: Se deduce el 50% - Huecos > 2 m2: Se deduce el 100% Los huecos que no se deduzcan, o que se deduzcan parcialmente, la medición incluye los trabajos de hacer los retornos, como jambas, dinteles, etc. En el caso que se deduzca el 100% del hueco, se deben medir también estos paramentos. No incluye mano de obra. Toda la maquinaria específica y los insumos necesarios para la instalación están incluidos en el precio.
A19: 01.05 | B19: ud | C19: CANTONERA | D19: =+VLOOKUP(A19,BBDD!A:J,4,0) -> 20 | E19: =+VLOOKUP(A19,BBDD!A:J,10,0) -> 26 | H19: =D19*$F19 -> 0 | J19: =+D19*$F19/4 -> 0
C20: Suministro de perfil cantonera en sección en L de medidas 30x30mm, de 150cm de longitud de acero inoxidable mate, colocado a 20 cms del suelo. No incluye mano de obra. Toda la maquinaria específica y los insumos necesarios para la instalación están incluidos en el precio.
A21: 01.06 | B21: m2 | C21: REVESTIMIENTO VINÍLICO ACROVYN | D21: =+VLOOKUP(A21,BBDD!A:J,4,0) -> 17.619048 | E21: =+VLOOKUP(A21,BBDD!A:J,10,0) -> 42 | H21: =D21*$F21 -> 0 | J21: =+D21*$F21/4 -> 0
C22: Suministro de revestimiento Vinílico rígido, de 1,5mm de espesor, modelo Acrovyn de la marca C-S Group o equivalente, colocado con adhesivo acrílico de dispersión acuosa y soldado en caliente con cordón celular de diámetro 4 mm. Tratamiento doblado en esquinas para evitar juntas en ellas. Montado a una altura de hasta 1,50 m de altura. Criterio de medición: m2 de superficie medida según las especificaciones del proyecto, con deducción de la superficie correspondiente a huecos, de acuerdo con los siguientes criterios: - Huecos <= 1 m2: No se deducen - Huecos > 1 m2: Se deduce el 100% Estos criterios incluyen el acabado específico de los encuentros con los bordes, sin que conlleve el uso de materiales diferentes de los que normalmente conforman la unidad. No incluye mano de obra. Toda la maquinaria específica y los insumos necesarios para la instalación están incluidos en el precio.
A23: 01.07 | B23: m2 | C23: PINTURA PLÁSTICA | D23: =+VLOOKUP(A23,BBDD!A:J,4,0) -> 600 | E23: =+VLOOKUP(A23,BBDD!A:J,10,0) -> 8 | H23: =D23*$F23 -> 0 | J23: =+D23*$F23/4 -> 0
C24: Pintado de paramento vertical/horizontal de yeso, con pintura plástica ecológica lavable, con acabado liso, con una capa selladora y dos de acabado. Color blanco o a elegir por la propiedad. Criterio de medición: con deducción de la superficie correspondiente a huecos de acuerdo con los criterios siguientes: - Huecos <= 4 m2: No se deducen - Huecos > 4 m: Se deduce el 100%Estos criterios incluyen la superficie de los paramentos laterales de la abertura en una profundidad de 30 cm, como máximo, excepto en el caso de las aberturas de más de 4,00 m2 en que esta superficie se medirá expresamente. Incluye la protección de elementos varios, encintado y tapado de agujeros existentes, así como la limpieza de los elementos que configuran la abertura, como los marcos que se hayan ensuciado. No incluye mano de obra. Toda la maquinaria específica y los insumos necesarios para la instalación están incluidos en el precio.
A25: 2 | C25: PAVIMENTOS, ZÓCALOS Y MÁRMOLES
A26: 02.01 | B26: m2 | C26: PARQUET SINTÉTICO AC6 USO INTENSO ROBLE CLARO | D26: =+VLOOKUP(A26,BBDD!A:J,4,0) -> 45 | E26: =+VLOOKUP(A26,BBDD!A:J,10,0) -> 80 | H26: =D26*$F26 -> 0 | J26: =+D26*$F26/4 -> 0
C27: Suministro de parquet flotante con tablas multicapa sintéticas para uso comercial elevado, resistencia AC6, de 1190 a 1800 mm de longitud, de 180 a 300 mm de ancho, 9,5 mm de espesor, con base de tablero de fibras de alta densidad, con unión a presión, colocado sobre lámina de polietileno expandido de 3 mm o PVC solapada 20cm. Marca Pergo Serie Public Extreme acabado Roble o equivalente Criterio de medición: m2 de superficie útil, con deducción de la superficie correspondiente a huecos, pilares o cerramientos de acuerdo con los siguientes criterios: - Huecos <= 1 m2: No se deducen - Huecos > 1 m2: Se deduce el 100% Estos criterios incluyen el acabado específico de los encuentros con los bordes, sin que conlleve el uso de materiales diferentes de los que normalmente conforman la unidad. No incluye mano de obra. Toda la maquinaria específica y los insumos necesarios para la instalación están incluidos en el precio.
A28: 02.02 | B28: m | C28: RODAPIÉ MADERA MISMO MODELO PARQUET SINTÉTICO | D28: =+VLOOKUP(A28,BBDD!A:J,4,0) -> 120 | E28: =+VLOOKUP(A28,BBDD!A:J,10,0) -> 9 | H28: =D28*$F28 -> 0 | J28: =+D28*$F28/4 -> 0
C29: Suministro de zócalo con el mismo acabado de madera barnizada exterior que el parquet con núcleo de MDF, marca PERGO Ref. PGPSKR01801, de 77 mm de altura, colocado con tacos de expansión y tornillos o equivalente. Corte a inglete en giros a 90º. Criterio de medición: m de longitud medida según las especificaciones del proyecto, con deducción de la longitud correspondiente a los huecos, de acuerdo con los siguientes criterios:- Huecos de ancho <= 1 m: Se deduce el 50% - Huecos de ancho > 1 m: Se deduce el 100% No incluye mano de obra. Toda la maquinaria específica y los insumos necesarios para la instalación están incluidos en el precio.
A30: 02.03 | B30: m2 | C30: PAVIMENTO PORCELÁNICO 60x60cm | D30: =+VLOOKUP(A30,BBDD!A:J,4,0) -> 150 | E30: =+VLOOKUP(A30,BBDD!A:J,10,0) -> 35 | H30: =D30*$F30 -> 0 | J30: =+D30*$F30/4 -> 0
C31: Suministro de pavimento interior, de baldosa de gres porcelanico, de forma cuadrada de 60x60, colocadas con adhesivo para baldosa cerámica C2 (UNE-EN 12004), con junta de 2mm y rejuntado con lechada CG2 tipo ref. B21502016 de la serie Materiales para juntas de BUTECH o equivalente (UNE-EN 13888) o lechada de látex color gris oscuro. Marca MARAZZI, modelo EVOLUTION STONE SERENA o equivalente. No incluye mano de obra. Toda la maquinaria específica y los insumos necesarios para la instalación están incluidos en el precio.
A32: 02.04 | B32: m | C32: ZÓCALO BALDOSA GRES PORCELÁNICO | D32: =+VLOOKUP(A32,BBDD!A:J,4,0) -> 80 | E32: =+VLOOKUP(A32,BBDD!A:J,10,0) -> 9 | H32: =D32*$F32 -> 0 | J32: =+D32*$F32/4 -> 0
C33: Zócalo de baldosa de gres porcelánico del mismo material que el pavimento, de 9 cm de altura, tomado con adhesivo para baldosa cerámica C2 TE (UNE-EN 12004) haciendo coincidir juntas con las del pavimento y rejuntado con lechada CG2 (UNE-EN 13888) tipo ref. B21502016 de la serie Materiales para juntas de BUTECH o equivalente o lechada de látex en color gris oscuro. Corte a inglete en giros a 90º. Criterio de medición: m de longitud medida según las especificaciones del proyecto, con deducción de la longitud correspondiente a los huecos, de acuerdo con los siguientes criterios:- Huecos de ancho <= 1 m: Se deduce el 50%. - Huecos de ancho > 1 m: Se deduce el 100%. No incluye mano de obra. Toda la maquinaria específica y los insumos necesarios para la instalación están incluidos en el precio.
A34: 02.05 | B34: m2 | C34: FELPUDO DE ALUMINIO Y MOQUETA | D34: =+VLOOKUP(A34,BBDD!A:J,4,0) -> 18.75 | E34: =+VLOOKUP(A34,BBDD!A:J,10,0) -> 280 | H34: =D34*$F34 -> 0 | J34: =+D34*$F34/4 -> 0
C35: Suministro de felpudo de lamas de aluminio y moqueta de alta absorción de humedad, con bisagras de poliamida para hacerlo enrollable, de la casa Futura, serie Expert ó equivalente, de 17mm de espesor, color de moqueta gris oscuro, con pedido a fabrica a medida y colocado en hueco previsto. No incluye mano de obra. Toda la maquinaria específica y los insumos necesarios para la instalación están incluidos en el precio.
A36: 02.06 | B36: m2 | C36: FELPUDO DE COCO | D36: =+VLOOKUP(A36,BBDD!A:J,4,0) -> 30 | E36: =+VLOOKUP(A36,BBDD!A:J,10,0) -> 29 | H36: =D36*$F36 -> 0 | J36: =+D36*$F36/4 -> 0
C37: Suministro de felpudo con base de PVC de alta resistencia y composición de 100% fibra de coco vegetal, con espesor total 20mm, en color gris antracita. No incluye mano de obra. Toda la maquinaria específica y los insumos necesarios para la instalación están incluidos en el precio.
A38: 3 | C38: YESERIA Y FALSOS TECHOS
A39: 03.01 | B39: m2 | C39: F. TECHO 60x60cm DE FIBRAS MINERALES | D39: =+VLOOKUP(A39,BBDD!A:J,4,0) -> 33.75 | E39: =+VLOOKUP(A39,BBDD!A:J,10,0) -> 32 | H39: =D39*$F39 -> 0 | J39: =+D39*$F39/4 -> 0
C40: Sumistro de falso techo de placas de fibras minerales con revestimiento exterior pintura fungicida, de 600x600 mm y 15 mm de espesor, tipo ref. 2224M de la serie Específicos de ARMSTRONG BIOGUARD PLAIN o equivalente acabado superficial liso, con canto rebajado, con clase de absorción acústica C según UNE-EN ISO 11654 y reacción al fuego, colocado con estructura de aluminio lacada en blanco, formada por perfiles principales tipo forma de T invertida de 15 mm de base cada 1,2 m fijados al techo mediante varilla de suspensión cada 1,2 m y con perfiles secundarios colocados formando retícula, para una altura de falso techo de 4 m como máximo. Perfiles perimetrales de 24mm de base para mejor soporte. Incluye la formación de huecos para la instalación de los elementos que sean necesarios: altavoces, luminarias, instalación incendios, instalación climatización,... Criterio de medición: m2 de superficie medida de acuerdo a las especificaciones de la DT. Con deducción de la superficie correspondiente a huecos, de acuerdo con los criterios siguientes:- Huecos <= 1 m2: No se deducirán - Huecos > 1 m2: Se deduce el 100% Estos criterios incluyen el acabado específico de los acuerdos con los bordes, sin que comporte el uso de materiales diferentes de aquellos que normalmente conforman la unidad. No incluye mano de obra. Toda la maquinaria específica y los insumos necesarios para la instalación están incluidos en el precio.
A41: 03.02 | B41: m2 | C41: FALSO TECHO METÁLICO 60x60cm MICROPERFORADO | D41: =+VLOOKUP(A41,BBDD!A:J,4,0) -> 93.75 | E41: =+VLOOKUP(A41,BBDD!A:J,10,0) -> 40 | H41: =D41*$F41 -> 0 | J41: =+D41*$F41/4 -> 0
...

Sheet Oferta Lote 2
A1: LOTE 2: VALENCIA, MURCIA, BALEARES
A2: MC Mutual: Listado de partidas revestimientos, climatización y baja tensión
C3: CONCEPTO | D3: PRECIO PERIODO INICIAL
D4: (UN AÑO)
C5: ESTADO DE MEDICIONES VALORADO sin IVA | D5: =SUM(J10:J225) -> 0 | E5: ------------>
C6: I.V.A. (21 %) | D6: =+D5*0.21 -> 0 | F6: VALORES QUE SE DEBERÁN UTILIZAR PARA CUMPLIMENTAR EL FORMULARIO DE OFERTA ECONÓMICA
C7: TOTAL con I.V.A. | D7: =+D6+D5 -> 0
A9: Código | B9: Ud | C9: Resumen | D9: Consumo 4 años | E9: Precio unitario máximo (€) | F9: Valor unitario ofertado | H9: Precio total partida (4 AÑOS) | J9: Precio total partida (1 AÑO)
A10: 1 | C10: ALBAÑILERÍA, REVOCOS, ALICATADOS y PINTURA
A11: 01.01 | B11: ud | C11: REFUERZO DE PLADUR | D11: =+VLOOKUP(A11,BBDD!A:J,5,0) -> 68 | E11: =+VLOOKUP(A11,BBDD!A:J,10,0) -> 23 | H11: =D11*$F11 -> 0 | J11: =+D11*$F11/4 -> 0
C12: Suministro de refuerzo puntual de madera para estructura de tabique de cartón-yeso, destinado a la colocación de elementos suspendidos (pasamanos, accesorios minusválidos, televisión, etc.). Dimensiones de cada refuerzo: ancho entre perfiles y alto de unos 40 cm, replanteados según especificaciones de la propiedad. No incluye mano de obra. Incluye maquinaria específica y materiales necesarios para su instalación posterior
A13: 01.02 | B13: m2 | C13: ALICATADO CERÁMICO BLANCO 20x30cm | D13: =+VLOOKUP(A13,BBDD!A:J,5,0) -> 24.972222 | E13: =+VLOOKUP(A13,BBDD!A:J,10,0) -> 36 | H13: =D13*$F13 -> 0 | J13: =+D13*$F13/4 -> 0
C14: Suministro de paramento vertical interior a una altura <= 3 m con de plaqueta de semigrés de medidas 20x30 en color blanco mate, colocada en horizontal, con lechada de color blanco, colocadas con adhesivo para baldosa cerámica C2 TE (UNE-EN 12004) y rejuntado con lechada CG2 (UNE-EN 13888). Criterio de medición: En revestimiento de paramentos, con deducción de la superficie correspondiente a huecos de acuerdo con los criterios siguientes: - Huecos <= 1 m2: No se deducen - Huecos > 1 m2 y <= 2 m2: Se deduce el 50% - Huecos > 2 m2: Se deduce el 100% Los huecos que no se deduzcan, o que se deduzcan parcialmente, la medición incluye los trabajos de hacer los retornos, como jambas, dinteles, etc. En el caso que se deduzca el 100% del hueco, se deben medir también estos paramentos. En caso de exixtir alicatado en el paramentos , el nuevo será igual al existente. No incluye mano de obra. Toda la maquinaria específica y los insumos necesarios para la instalación están incluidos en el precio.
A15: 01.03 | B15: m2 | C15: ALICATADO MARMI CHINA PORCELANOSA 32x90cm | D15: =+VLOOKUP(A15,BBDD!A:J,5,0) -> 28.1875 | E15: =+VLOOKUP(A15,BBDD!A:J,10,0) -> 48 | H15: =D15*$F15 -> 0 | J15: =+D15*$F15/4 -> 0
C16: Suministro de alicatado de paramento vertical interior a una altura <= 3 m con baldosa de cerámica esmaltada mate, azulejo, grupo BIII (UNE-EN 14411), precio superior, de 1 a 5 piezas/m2 tipo ref. P3470131 de la serie Marmi China de PORCELANOSA con medidas de pieza 90x32cm colocadas en horizontal o equivalente colocadas con adhesivo para baldosa cerámica C2 TE (UNE-EN 12004) y rejuntado con lechada CG2 (UNE-EN 13888). Criterio de medición: En revestimiento de paramentos, con deducción de la superficie correspondiente a huecos de acuerdo con los criterios siguientes: - Huecos <= 1 m2: No se deducen - Huecos > 1 m2 y <= 2 m2: Se deduce el 50% - Huecos > 2 m2: Se deduce el 100% Los huecos que no se deduzcan, o que se deduzcan parcialmente, la medición incluye los trabajos de hacer los retornos, como jambas, dinteles, etc. En el caso que se deduzca el 100% del hueco, se deben medir también estos paramentos. No incluye mano de obra. Toda la maquinaria específica y los insumos necesarios para la instalación están incluidos en el precio.
A17: 01.04 | B17: m2 | C17: CHAPADO PARA FACHADA DE GRANITO | D17: =+VLOOKUP(A17,BBDD!A:J,5,0) -> 9 | E17: =+VLOOKUP(A17,BBDD!A:J,10,0) -> 89 | H17: =D17*$F17 -> 0 | J17: =+D17*$F17/4 -> 0
C18: Suministro de chapado con placas mecanizadas de granito Gris Quintana, acabado pulido, con medidas y despiece según piezas existentes, fijado con adhesivo cementoso mejorado, C2 TE, con deslizamiento reducido y tiempo abierto ampliado, gris, y grapas de anclaje de acero inoxidable; rejuntado con mortero de juntas cementoso, CG1, para junta mínima (entre 1,5 y 3 mm), con la misma tonalidad de las piezas. Criterio de medición: En revestimiento de paramentos, con deducción de la superficie correspondiente a huecos de acuerdo con los criterios siguientes: - Huecos <= 1 m2: No se deducen - Huecos > 1 m2 y <= 2 m2: Se deduce el 50% - Huecos > 2 m2: Se deduce el 100% Los huecos que no se deduzcan, o que se deduzcan parcialmente, la medición incluye los trabajos de hacer los retornos, como jambas, dinteles, etc. En el caso que se deduzca el 100% del hueco, se deben medir también estos paramentos. No incluye mano de obra. Toda la maquinaria específica y los insumos necesarios para la instalación están incluidos en el precio.
A19: 01.05 | B19: ud | C19: CANTONERA | D19: =+VLOOKUP(A19,BBDD!A:J,5,0) -> 9 | E19: =+VLOOKUP(A19,BBDD!A:J,10,0) -> 26 | H19: =D19*$F19 -> 0 | J19: =+D19*$F19/4 -> 0
C20: Suministro de perfil cantonera en sección en L de medidas 30x30mm, de 150cm de longitud de acero inoxidable mate, colocado a 20 cms del suelo. No incluye mano de obra. Toda la maquinaria específica y los insumos necesarios para la instalación están incluidos en el precio.
A21: 01.06 | B21: m2 | C21: REVESTIMIENTO VINÍLICO ACROVYN | D21: =+VLOOKUP(A21,BBDD!A:J,5,0) -> 7.9285714 | E21: =+VLOOKUP(A21,BBDD!A:J,10,0) -> 42 | H21: =D21*$F21 -> 0 | J21: =+D21*$F21/4 -> 0
C22: Suministro de revestimiento Vinílico rígido, de 1,5mm de espesor, modelo Acrovyn de la marca C-S Group o equivalente, colocado con adhesivo acrílico de dispersión acuosa y soldado en caliente con cordón celular de diámetro 4 mm. Tratamiento doblado en esquinas para evitar juntas en ellas. Montado a una altura de hasta 1,50 m de altura. Criterio de medición: m2 de superficie medida según las especificaciones del proyecto, con deducción de la superficie correspondiente a huecos, de acuerdo con los siguientes criterios: - Huecos <= 1 m2: No se deducen - Huecos > 1 m2: Se deduce el 100% Estos criterios incluyen el acabado específico de los encuentros con los bordes, sin que conlleve el uso de materiales diferentes de los que normalmente conforman la unidad. No incluye mano de obra. Toda la maquinaria específica y los insumos necesarios para la instalación están incluidos en el precio.
A23: 01.07 | B23: m2 | C23: PINTURA PLÁSTICA | D23: =+VLOOKUP(A23,BBDD!A:J,5,0) -> 243 | E23: =+VLOOKUP(A23,BBDD!A:J,10,0) -> 8 | H23: =D23*$F23 -> 0 | J23: =+D23*$F23/4 -> 0
C24: Pintado de paramento vertical/horizontal de yeso, con pintura plástica ecológica lavable, con acabado liso, con una capa selladora y dos de acabado. Color blanco o a elegir por la propiedad. Criterio de medición: con deducción de la superficie correspondiente a huecos de acuerdo con los criterios siguientes: - Huecos <= 4 m2: No se deducen - Huecos > 4 m: Se deduce el 100%Estos criterios incluyen la superficie de los paramentos laterales de la abertura en una profundidad de 30 cm, como máximo, excepto en el caso de las aberturas de más de 4,00 m2 en que esta superficie se medirá expresamente. Incluye la protección de elementos varios, encintado y tapado de agujeros existentes, así como la limpieza de los elementos que configuran la abertura, como los marcos que se hayan ensuciado. No incluye mano de obra. Toda la maquinaria específica y los insumos necesarios para la instalación están incluidos en el precio.
A25: 2 | C25: PAVIMENTOS, ZÓCALOS Y MÁRMOLES
A26: 02.01 | B26: m2 | C26: PARQUET SINTÉTICO AC6 USO INTENSO ROBLE CLARO | D26: =+VLOOKUP(A26,BBDD!A:J,5,0) -> 19 | E26: =+VLOOKUP(A26,BBDD!A:J,10,0) -> 80 | H26: =D26*$F26 -> 0 | J26: =+D26*$F26/4 -> 0
C27: Suministro de parquet flotante con tablas multicapa sintéticas para uso comercial elevado, resistencia AC6, de 1190 a 1800 mm de longitud, de 180 a 300 mm de ancho, 9,5 mm de espesor, con base de tablero de fibras de alta densidad, con unión a presión, colocado sobre lámina de polietileno expandido de 3 mm o PVC solapada 20cm. Marca Pergo Serie Public Extreme acabado Roble o equivalente Criterio de medición: m2 de superficie útil, con deducción de la superficie correspondiente a huecos, pilares o cerramientos de acuerdo con los siguientes criterios: - Huecos <= 1 m2: No se deducen - Huecos > 1 m2: Se deduce el 100% Estos criterios incluyen el acabado específico de los encuentros con los bordes, sin que conlleve el uso de materiales diferentes de los que normalmente conforman la unidad. No incluye mano de obra. Toda la maquinaria específica y los insumos necesarios para la instalación están incluidos en el precio.
A28: 02.02 | B28: m | C28: RODAPIÉ MADERA MISMO MODELO PARQUET SINTÉTICO | D28: =+VLOOKUP(A28,BBDD!A:J,5,0) -> 49 | E28: =+VLOOKUP(A28,BBDD!A:J,10,0) -> 9 | H28: =D28*$F28 -> 0 | J28: =+D28*$F28/4 -> 0
C29: Suministro de zócalo con el mismo acabado de madera barnizada exterior que el parquet con núcleo de MDF, marca PERGO Ref. PGPSKR01801, de 77 mm de altura, colocado con tacos de expansión y tornillos o equivalente. Corte a inglete en giros a 90º. Criterio de medición: m de longitud medida según las especificaciones del proyecto, con deducción de la longitud correspondiente a los huecos, de acuerdo con los siguientes criterios:- Huecos de ancho <= 1 m: Se deduce el 50% - Huecos de ancho > 1 m: Se deduce el 100% No incluye mano de obra. Toda la maquinaria específica y los insumos necesarios para la instalación están incluidos en el precio.
A30: 02.03 | B30: m2 | C30: PAVIMENTO PORCELÁNICO 60x60cm | D30: =+VLOOKUP(A30,BBDD!A:J,5,0) -> 61 | E30: =+VLOOKUP(A30,BBDD!A:J,10,0) -> 35 | H30: =D30*$F30 -> 0 | J30: =+D30*$F30/4 -> 0
C31: Suministro de pavimento interior, de baldosa de gres porcelanico, de forma cuadrada de 60x60, colocadas con adhesivo para baldosa cerámica C2 (UNE-EN 12004), con junta de 2mm y rejuntado con lechada CG2 tipo ref. B21502016 de la serie Materiales para juntas de BUTECH o equivalente (UNE-EN 13888) o lechada de látex color gris oscuro. Marca MARAZZI, modelo EVOLUTION STONE SERENA o equivalente. No incluye mano de obra. Toda la maquinaria específica y los insumos necesarios para la instalación están incluidos en el precio.
A32: 02.04 | B32: m | C32: ZÓCALO BALDOSA GRES PORCELÁNICO | D32: =+VLOOKUP(A32,BBDD!A:J,5,0) -> 33 | E32: =+VLOOKUP(A32,BBDD!A:J,10,0) -> 9 | H32: =D32*$F32 -> 0 | J32: =+D32*$F32/4 -> 0
C33: Zócalo de baldosa de gres porcelánico del mismo material que el pavimento, de 9 cm de altura, tomado con adhesivo para baldosa cerámica C2 TE (UNE-EN 12004) haciendo coincidir juntas con las del pavimento y rejuntado con lechada CG2 (UNE-EN 13888) tipo ref. B21502016 de la serie Materiales para juntas de BUTECH o equivalente o lechada de látex en color gris oscuro. Corte a inglete en giros a 90º. Criterio de medición: m de longitud medida según las especificaciones del proyecto, con deducción de la longitud correspondiente a los huecos, de acuerdo con los siguientes criterios:- Huecos de ancho <= 1 m: Se deduce el 50%. - Huecos de ancho > 1 m: Se deduce el 100%. No incluye mano de obra. Toda la maquinaria específica y los insumos necesarios para la instalación están incluidos en el precio.
A34: 02.05 | B34: m2 | C34: FELPUDO DE ALUMINIO Y MOQUETA | D34: =+VLOOKUP(A34,BBDD!A:J,5,0) -> 8.75 | E34: =+VLOOKUP(A34,BBDD!A:J,10,0) -> 280 | H34: =D34*$F34 -> 0 | J34: =+D34*$F34/4 -> 0
C35: Suministro de felpudo de lamas de aluminio y moqueta de alta absorción de humedad, con bisagras de poliamida para hacerlo enrollable, de la casa Futura, serie Expert ó equivalente, de 17mm de espesor, color de moqueta gris oscuro, con pedido a fabrica a medida y colocado en hueco previsto. No incluye mano de obra. Toda la maquinaria específica y los insumos necesarios para la instalación están incluidos en el precio.
A36: 02.06 | B36: m2 | C36: FELPUDO DE COCO | D36: =+VLOOKUP(A36,BBDD!A:J,5,0) -> 13 | E36: =+VLOOKUP(A36,BBDD!A:J,10,0) -> 29 | H36: =D36*$F36 -> 0 | J36: =+D36*$F36/4 -> 0
C37: Suministro de felpudo con base de PVC de alta resistencia y composición de 100% fibra de coco vegetal, con espesor total 20mm, en color gris antracita. No incluye mano de obra. Toda la maquinaria específica y los insumos necesarios para la instalación están incluidos en el precio.
A38: 3 | C38: YESERIA Y FALSOS TECHOS
A39: 03.01 | B39: m2 | C39: F. TECHO 60x60cm DE FIBRAS MINERALES | D39: =+VLOOKUP(A39,BBDD!A:J,5,0) -> 14.34375 | E39: =+VLOOKUP(A39,BBDD!A:J,10,0) -> 32 | H39: =D39*$F39 -> 0 | J39: =+D39*$F39/4 -> 0
C40: Sumistro de falso techo de placas de fibras minerales con revestimiento exterior pintura fungicida, de 600x600 mm y 15 mm de espesor, tipo ref. 2224M de la serie Específicos de ARMSTRONG BIOGUARD PLAIN o equivalente acabado superficial liso, con canto rebajado, con clase de absorción acústica C según UNE-EN ISO 11654 y reacción al fuego, colocado con estructura de aluminio lacada en blanco, formada por perfiles principales tipo forma de T invertida de 15 mm de base cada 1,2 m fijados al techo mediante varilla de suspensión cada 1,2 m y con perfiles secundarios colocados formando retícula, para una altura de falso techo de 4 m como máximo. Perfiles perimetrales de 24mm de base para mejor soporte. Incluye la formación de huecos para la instalación de los elementos que sean necesarios: altavoces, luminarias, instalación incendios, instalación climatización,... Criterio de medición: m2 de superficie medida de acuerdo a las especificaciones de la DT. Con deducción de la superficie correspondiente a huecos, de acuerdo con los criterios siguientes:- Huecos <= 1 m2: No se deducirán - Huecos > 1 m2: Se deduce el 100% Estos criterios incluyen el acabado específico de los acuerdos con los bordes, sin que comporte el uso de materiales diferentes de aquellos que normalmente conforman la unidad. No incluye mano de obra. Toda la maquinaria específica y los insumos necesarios para la instalación están incluidos en el precio.
A41: 03.02 | B41: m2 | C41: FALSO TECHO METÁLICO 60x60cm MICROPERFORADO | D41: =+VLOOKUP(A41,BBDD!A:J,5,0) -> 38.125 | E41: =+VLOOKUP(A41,BBDD!A:J,10,0) -> 40 | H41: =D41*$F41 -> 0 | J41: =+D41*$F41/4 -> 0
...

Sheet Oferta Lote 3
A1: LOTE 3: GALICIA, ASTURIAS, CASTILLA LEÓN, CANTABRIA, PAÍS VASCO, RIOJA, NAVARRA, ARAGÓN
A2: MC Mutual: Listado de partidas revestimientos, climatización y baja tensión
C3: CONCEPTO | D3: PRECIO PERIODO INICIAL
D4: (UN AÑO)
C5: ESTADO DE MEDICIONES VALORADO sin IVA | D5: =SUM(J10:J225) -> 0 | E5: ------------>
C6: I.V.A. (21 %) | D6: =+D5*0.21 -> 0 | F6: VALORES QUE SE DEBERÁN UTILIZAR PARA CUMPLIMENTAR EL FORMULARIO DE OFERTA ECONÓMICA
C7: TOTAL con I.V.A. | D7: =+D6+D5 -> 0
A9: Código | B9: Ud | C9: Resumen | D9: Consumo 4 años | E9: Precio unitario máximo (€) | F9: Valor unitario ofertado | H9: Precio total partida (4 AÑOS) | J9: Precio total partida (1 AÑO)
A10: 1 | C10: ALBAÑILERÍA, REVOCOS, ALICATADOS y PINTURA
A11: 01.01 | B11: ud | C11: REFUERZO DE PLADUR | D11: =+VLOOKUP(A11,BBDD!A:J,6,0) -> 128 | E11: =+VLOOKUP(A11,BBDD!A:J,10,0) -> 23 | H11: =D11*$F11 -> 0 | J11: =+D11*$F11/4 -> 0
C12: Suministro de refuerzo puntual de madera para estructura de tabique de cartón-yeso, destinado a la colocación de elementos suspendidos (pasamanos, accesorios minusválidos, televisión, etc.). Dimensiones de cada refuerzo: ancho entre perfiles y alto de unos 40 cm, replanteados según especificaciones de la propiedad. No incluye mano de obra. Incluye maquinaria específica y materiales necesarios para su instalación posterior
A13: 01.02 | B13: m2 | C13: ALICATADO CERÁMICO BLANCO 20x30cm | D13: =+VLOOKUP(A13,BBDD!A:J,6,0) -> 48.333333 | E13: =+VLOOKUP(A13,BBDD!A:J,10,0) -> 36 | H13: =D13*$F13 -> 0 | J13: =+D13*$F13/4 -> 0
C14: Suministro de paramento vertical interior a una altura <= 3 m con de plaqueta de semigrés de medidas 20x30 en color blanco mate, colocada en horizontal, con lechada de color blanco, colocadas con adhesivo para baldosa cerámica C2 TE (UNE-EN 12004) y rejuntado con lechada CG2 (UNE-EN 13888). Criterio de medición: En revestimiento de paramentos, con deducción de la superficie correspondiente a huecos de acuerdo con los criterios siguientes: - Huecos <= 1 m2: No se deducen - Huecos > 1 m2 y <= 2 m2: Se deduce el 50% - Huecos > 2 m2: Se deduce el 100% Los huecos que no se deduzcan, o que se deduzcan parcialmente, la medición incluye los trabajos de hacer los retornos, como jambas, dinteles, etc. En el caso que se deduzca el 100% del hueco, se deben medir también estos paramentos. En caso de exixtir alicatado en el paramentos , el nuevo será igual al existente. No incluye mano de obra. Toda la maquinaria específica y los insumos necesarios para la instalación están incluidos en el precio.
A15: 01.03 | B15: m2 | C15: ALICATADO MARMI CHINA PORCELANOSA 32x90cm | D15: =+VLOOKUP(A15,BBDD!A:J,6,0) -> 53.8125 | E15: =+VLOOKUP(A15,BBDD!A:J,10,0) -> 48 | H15: =D15*$F15 -> 0 | J15: =+D15*$F15/4 -> 0
C16: Suministro de alicatado de paramento vertical interior a una altura <= 3 m con baldosa de cerámica esmaltada mate, azulejo, grupo BIII (UNE-EN 14411), precio superior, de 1 a 5 piezas/m2 tipo ref. P3470131 de la serie Marmi China de PORCELANOSA con medidas de pieza 90x32cm colocadas en horizontal o equivalente colocadas con adhesivo para baldosa cerámica C2 TE (UNE-EN 12004) y rejuntado con lechada CG2 (UNE-EN 13888). Criterio de medición: En revestimiento de paramentos, con deducción de la superficie correspondiente a huecos de acuerdo con los criterios siguientes: - Huecos <= 1 m2: No se deducen - Huecos > 1 m2 y <= 2 m2: Se deduce el 50% - Huecos > 2 m2: Se deduce el 100% Los huecos que no se deduzcan, o que se deduzcan parcialmente, la medición incluye los trabajos de hacer los retornos, como jambas, dinteles, etc. En el caso que se deduzca el 100% del hueco, se deben medir también estos paramentos. No incluye mano de obra. Toda la maquinaria específica y los insumos necesarios para la instalación están incluidos en el precio.
A17: 01.04 | B17: m2 | C17: CHAPADO PARA FACHADA DE GRANITO | D17: =+VLOOKUP(A17,BBDD!A:J,6,0) -> 16 | E17: =+VLOOKUP(A17,BBDD!A:J,10,0) -> 89 | H17: =D17*$F17 -> 0 | J17: =+D17*$F17/4 -> 0
C18: Suministro de chapado con placas mecanizadas de granito Gris Quintana, acabado pulido, con medidas y despiece según piezas existentes, fijado con adhesivo cementoso mejorado, C2 TE, con deslizamiento reducido y tiempo abierto ampliado, gris, y grapas de anclaje de acero inoxidable; rejuntado con mortero de juntas cementoso, CG1, para junta mínima (entre 1,5 y 3 mm), con la misma tonalidad de las piezas. Criterio de medición: En revestimiento de paramentos, con deducción de la superficie correspondiente a huecos de acuerdo con los criterios siguientes: - Huecos <= 1 m2: No se deducen - Huecos > 1 m2 y <= 2 m2: Se deduce el 50% - Huecos > 2 m2: Se deduce el 100% Los huecos que no se deduzcan, o que se deduzcan parcialmente, la medición incluye los trabajos de hacer los retornos, como jambas, dinteles, etc. En el caso que se deduzca el 100% del hueco, se deben medir también estos paramentos. No incluye mano de obra. Toda la maquinaria específica y los insumos necesarios para la instalación están incluidos en el precio.
A19: 01.05 | B19: ud | C19: CANTONERA | D19: =+VLOOKUP(A19,BBDD!A:J,6,0) -> 16 | E19: =+VLOOKUP(A19,BBDD!A:J,10,0) -> 26 | H19: =D19*$F19 -> 0 | J19: =+D19*$F19/4 -> 0
C20: Suministro de perfil cantonera en sección en L de medidas 30x30mm, de 150cm de longitud de acero inoxidable mate, colocado a 20 cms del suelo. No incluye mano de obra. Toda la maquinaria específica y los insumos necesarios para la instalación están incluidos en el precio.
A21: 01.06 | B21: m2 | C21: REVESTIMIENTO VINÍLICO ACROVYN | D21: =+VLOOKUP(A21,BBDD!A:J,6,0) -> 14.095238 | E21: =+VLOOKUP(A21,BBDD!A:J,10,0) -> 42 | H21: =D21*$F21 -> 0 | J21: =+D21*$F21/4 -> 0
C22: Suministro de revestimiento Vinílico rígido, de 1,5mm de espesor, modelo Acrovyn de la marca C-S Group o equivalente, colocado con adhesivo acrílico de dispersión acuosa y soldado en caliente con cordón celular de diámetro 4 mm. Tratamiento doblado en esquinas para evitar juntas en ellas. Montado a una altura de hasta 1,50 m de altura. Criterio de medición: m2 de superficie medida según las especificaciones del proyecto, con deducción de la superficie correspondiente a huecos, de acuerdo con los siguientes criterios: - Huecos <= 1 m2: No se deducen - Huecos > 1 m2: Se deduce el 100% Estos criterios incluyen el acabado específico de los encuentros con los bordes, sin que conlleve el uso de materiales diferentes de los que normalmente conforman la unidad. No incluye mano de obra. Toda la maquinaria específica y los insumos necesarios para la instalación están incluidos en el precio.
A23: 01.07 | B23: m2 | C23: PINTURA PLÁSTICA | D23: =+VLOOKUP(A23,BBDD!A:J,6,0) -> 472.5 | E23: =+VLOOKUP(A23,BBDD!A:J,10,0) -> 8 | H23: =D23*$F23 -> 0 | J23: =+D23*$F23/4 -> 0
C24: Pintado de paramento vertical/horizontal de yeso, con pintura plástica ecológica lavable, con acabado liso, con una capa selladora y dos de acabado. Color blanco o a elegir por la propiedad. Criterio de medición: con deducción de la superficie correspondiente a huecos de acuerdo con los criterios siguientes: - Huecos <= 4 m2: No se deducen - Huecos > 4 m: Se deduce el 100%Estos criterios incluyen la superficie de los paramentos laterales de la abertura en una profundidad de 30 cm, como máximo, excepto en el caso de las aberturas de más de 4,00 m2 en que esta superficie se medirá expresamente. Incluye la protección de elementos varios, encintado y tapado de agujeros existentes, así como la limpieza de los elementos que configuran la abertura, como los marcos que se hayan ensuciado. No incluye mano de obra. Toda la maquinaria específica y los insumos necesarios para la instalación están incluidos en el precio.
A25: 2 | C25: PAVIMENTOS, ZÓCALOS Y MÁRMOLES
A26: 02.01 | B26: m2 | C26: PARQUET SINTÉTICO AC6 USO INTENSO ROBLE CLARO | D26: =+VLOOKUP(A26,BBDD!A:J,6,0) -> 36 | E26: =+VLOOKUP(A26,BBDD!A:J,10,0) -> 80 | H26: =D26*$F26 -> 0 | J26: =+D26*$F26/4 -> 0
C27: Suministro de parquet flotante con tablas multicapa sintéticas para uso comercial elevado, resistencia AC6, de 1190 a 1800 mm de longitud, de 180 a 300 mm de ancho, 9,5 mm de espesor, con base de tablero de fibras de alta densidad, con unión a presión, colocado sobre lámina de polietileno expandido de 3 mm o PVC solapada 20cm. Marca Pergo Serie Public Extreme acabado Roble o equivalente Criterio de medición: m2 de superficie útil, con deducción de la superficie correspondiente a huecos, pilares o cerramientos de acuerdo con los siguientes criterios: - Huecos <= 1 m2: No se deducen - Huecos > 1 m2: Se deduce el 100% Estos criterios incluyen el acabado específico de los encuentros con los bordes, sin que conlleve el uso de materiales diferentes de los que normalmente conforman la unidad. No incluye mano de obra. Toda la maquinaria específica y los insumos necesarios para la instalación están incluidos en el precio.
A28: 02.02 | B28: m | C28: RODAPIÉ MADERA MISMO MODELO PARQUET SINTÉTICO | D28: =+VLOOKUP(A28,BBDD!A:J,6,0) -> 95 | E28: =+VLOOKUP(A28,BBDD!A:J,10,0) -> 9 | H28: =D28*$F28 -> 0 | J28: =+D28*$F28/4 -> 0
C29: Suministro de zócalo con el mismo acabado de madera barnizada exterior que el parquet con núcleo de MDF, marca PERGO Ref. PGPSKR01801, de 77 mm de altura, colocado con tacos de expansión y tornillos o equivalente. Corte a inglete en giros a 90º. Criterio de medición: m de longitud medida según las especificaciones del proyecto, con deducción de la longitud correspondiente a los huecos, de acuerdo con los siguientes criterios:- Huecos de ancho <= 1 m: Se deduce el 50% - Huecos de ancho > 1 m: Se deduce el 100% No incluye mano de obra. Toda la maquinaria específica y los insumos necesarios para la instalación están incluidos en el precio.
A30: 02.03 | B30: m2 | C30: PAVIMENTO PORCELÁNICO 60x60cm | D30: =+VLOOKUP(A30,BBDD!A:J,6,0) -> 119 | E30: =+VLOOKUP(A30,BBDD!A:J,10,0) -> 35 | H30: =D30*$F30 -> 0 | J30: =+D30*$F30/4 -> 0
C31: Suministro de pavimento interior, de baldosa de gres porcelanico, de forma cuadrada de 60x60, colocadas con adhesivo para baldosa cerámica C2 (UNE-EN 12004), con junta de 2mm y rejuntado con lechada CG2 tipo ref. B21502016 de la serie Materiales para juntas de BUTECH o equivalente (UNE-EN 13888) o lechada de látex color gris oscuro. Marca MARAZZI, modelo EVOLUTION STONE SERENA o equivalente. No incluye mano de obra. Toda la maquinaria específica y los insumos necesarios para la instalación están incluidos en el precio.
A32: 02.04 | B32: m | C32: ZÓCALO BALDOSA GRES PORCELÁNICO | D32: =+VLOOKUP(A32,BBDD!A:J,6,0) -> 63 | E32: =+VLOOKUP(A32,BBDD!A:J,10,0) -> 9 | H32: =D32*$F32 -> 0 | J32: =+D32*$F32/4 -> 0
C33: Zócalo de baldosa de gres porcelánico del mismo material que el pavimento, de 9 cm de altura, tomado con adhesivo para baldosa cerámica C2 TE (UNE-EN 12004) haciendo coincidir juntas con las del pavimento y rejuntado con lechada CG2 (UNE-EN 13888) tipo ref. B21502016 de la serie Materiales para juntas de BUTECH o equivalente o lechada de látex en color gris oscuro. Corte a inglete en giros a 90º. Criterio de medición: m de longitud medida según las especificaciones del proyecto, con deducción de la longitud correspondiente a los huecos, de acuerdo con los siguientes criterios:- Huecos de ancho <= 1 m: Se deduce el 50%. - Huecos de ancho > 1 m: Se deduce el 100%. No incluye mano de obra. Toda la maquinaria específica y los insumos necesarios para la instalación están incluidos en el precio.
A34: 02.05 | B34: m2 | C34: FELPUDO DE ALUMINIO Y MOQUETA | D34: =+VLOOKUP(A34,BBDD!A:J,6,0) -> 15 | E34: =+VLOOKUP(A34,BBDD!A:J,10,0) -> 280 | H34: =D34*$F34 -> 0 | J34: =+D34*$F34/4 -> 0
C35: Suministro de felpudo de lamas de aluminio y moqueta de alta absorción de humedad, con bisagras de poliamida para hacerlo enrollable, de la casa Futura, serie Expert ó equivalente, de 17mm de espesor, color de moqueta gris oscuro, con pedido a fabrica a medida y colocado en hueco previsto. No incluye mano de obra. Toda la maquinaria específica y los insumos necesarios para la instalación están incluidos en el precio.
A36: 02.06 | B36: m2 | C36: FELPUDO DE COCO | D36: =+VLOOKUP(A36,BBDD!A:J,6,0) -> 24 | E36: =+VLOOKUP(A36,BBDD!A:J,10,0) -> 29 | H36: =D36*$F36 -> 0 | J36: =+D36*$F36/4 -> 0
C37: Suministro de felpudo con base de PVC de alta resistencia y composición de 100% fibra de coco vegetal, con espesor total 20mm, en color gris antracita. No incluye mano de obra. Toda la maquinaria específica y los insumos necesarios para la instalación están incluidos en el precio.
A38: 3 | C38: YESERIA Y FALSOS TECHOS
A39: 03.01 | B39: m2 | C39: F. TECHO 60x60cm DE FIBRAS MINERALES | D39: =+VLOOKUP(A39,BBDD!A:J,6,0) -> 27 | E39: =+VLOOKUP(A39,BBDD!A:J,10,0) -> 32 | H39: =D39*$F39 -> 0 | J39: =+D39*$F39/4 -> 0
C40: Sumistro de falso techo de placas de fibras minerales con revestimiento exterior pintura fungicida, de 600x600 mm y 15 mm de espesor, tipo ref. 2224M de la serie Específicos de ARMSTRONG BIOGUARD PLAIN o equivalente acabado superficial liso, con canto rebajado, con clase de absorción acústica C según UNE-EN ISO 11654 y reacción al fuego, colocado con estructura de aluminio lacada en blanco, formada por perfiles principales tipo forma de T invertida de 15 mm de base cada 1,2 m fijados al techo mediante varilla de suspensión cada 1,2 m y con perfiles secundarios colocados formando retícula, para una altura de falso techo de 4 m como máximo. Perfiles perimetrales de 24mm de base para mejor soporte. Incluye la formación de huecos para la instalación de los elementos que sean necesarios: altavoces, luminarias, instalación incendios, instalación climatización,... Criterio de medición: m2 de superficie medida de acuerdo a las especificaciones de la DT. Con deducción de la superficie correspondiente a huecos, de acuerdo con los criterios siguientes:- Huecos <= 1 m2: No se deducirán - Huecos > 1 m2: Se deduce el 100% Estos criterios incluyen el acabado específico de los acuerdos con los bordes, sin que comporte el uso de materiales diferentes de aquellos que normalmente conforman la unidad. No incluye mano de obra. Toda la maquinaria específica y los insumos necesarios para la instalación están incluidos en el precio.
A41: 03.02 | B41: m2 | C41: FALSO TECHO METÁLICO 60x60cm MICROPERFORADO | D41: =+VLOOKUP(A41,BBDD!A:J,6,0) -> 74.375 | E41: =+VLOOKUP(A41,BBDD!A:J,10,0) -> 40 | H41: =D41*$F41 -> 0 | J41: =+D41*$F41/4 -> 0
...

Sheet Oferta Lote 4
A1: LOTE 4: MADRID, CANARIAS, CASTILLA LA MANCHA
A2: MC Mutual: Listado de partidas revestimientos, climatización y baja tensión
C3: CONCEPTO | D3: PRECIO PERIODO INICIAL
D4: (UN AÑO)
C5: ESTADO DE MEDICIONES VALORADO sin IVA | D5: =SUM(J10:J225) -> 0 | E5: ------------>
C6: I.V.A. (21 %) | D6: =+D5*0.21 -> 0 | F6: VALORES QUE SE DEBERÁN UTILIZAR PARA CUMPLIMENTAR EL FORMULARIO DE OFERTA ECONÓMICA
C7: TOTAL con I.V.A. | D7: =+D6+D5 -> 0
A9: Código | B9: Ud | C9: Resumen | D9: Consumo 4 años | E9: Precio unitario máximo (€) | F9: Valor unitario ofertado | H9: Precio total partida (4 AÑOS) | J9: Precio total partida (1 AÑO)
A10: 1 | C10: ALBAÑILERÍA, REVOCOS, ALICATADOS y PINTURA
A11: 01.01 | B11: ud | C11: REFUERZO DE PLADUR | D11: =+VLOOKUP(A11,BBDD!A:J,7,0) -> 60 | E11: =+VLOOKUP(A11,BBDD!A:J,10,0) -> 23 | H11: =D11*$F11 -> 0 | J11: =+D11*$F11/4 -> 0
C12: Suministro de refuerzo puntual de madera para estructura de tabique de cartón-yeso, destinado a la colocación de elementos suspendidos (pasamanos, accesorios minusválidos, televisión, etc.). Dimensiones de cada refuerzo: ancho entre perfiles y alto de unos 40 cm, replanteados según especificaciones de la propiedad. No incluye mano de obra. Incluye maquinaria específica y materiales necesarios para su instalación posterior
A13: 01.02 | B13: m2 | C13: ALICATADO CERÁMICO BLANCO 20x30cm | D13: =+VLOOKUP(A13,BBDD!A:J,7,0) -> 22.555556 | E13: =+VLOOKUP(A13,BBDD!A:J,10,0) -> 36 | H13: =D13*$F13 -> 0 | J13: =+D13*$F13/4 -> 0
C14: Suministro de paramento vertical interior a una altura <= 3 m con de plaqueta de semigrés de medidas 20x30 en color blanco mate, colocada en horizontal, con lechada de color blanco, colocadas con adhesivo para baldosa cerámica C2 TE (UNE-EN 12004) y rejuntado con lechada CG2 (UNE-EN 13888). Criterio de medición: En revestimiento de paramentos, con deducción de la superficie correspondiente a huecos de acuerdo con los criterios siguientes: - Huecos <= 1 m2: No se deducen - Huecos > 1 m2 y <= 2 m2: Se deduce el 50% - Huecos > 2 m2: Se deduce el 100% Los huecos que no se deduzcan, o que se deduzcan parcialmente, la medición incluye los trabajos de hacer los retornos, como jambas, dinteles, etc. En el caso que se deduzca el 100% del hueco, se deben medir también estos paramentos. En caso de exixtir alicatado en el paramentos , el nuevo será igual al existente. No incluye mano de obra. Toda la maquinaria específica y los insumos necesarios para la instalación están incluidos en el precio.
A15: 01.03 | B15: m2 | C15: ALICATADO MARMI CHINA PORCELANOSA 32x90cm | D15: =+VLOOKUP(A15,BBDD!A:J,7,0) -> 24.770833 | E15: =+VLOOKUP(A15,BBDD!A:J,10,0) -> 48 | H15: =D15*$F15 -> 0 | J15: =+D15*$F15/4 -> 0
C16: Suministro de alicatado de paramento vertical interior a una altura <= 3 m con baldosa de cerámica esmaltada mate, azulejo, grupo BIII (UNE-EN 14411), precio superior, de 1 a 5 piezas/m2 tipo ref. P3470131 de la serie Marmi China de PORCELANOSA con medidas de pieza 90x32cm colocadas en horizontal o equivalente colocadas con adhesivo para baldosa cerámica C2 TE (UNE-EN 12004) y rejuntado con lechada CG2 (UNE-EN 13888). Criterio de medición: En revestimiento de paramentos, con deducción de la superficie correspondiente a huecos de acuerdo con los criterios siguientes: - Huecos <= 1 m2: No se deducen - Huecos > 1 m2 y <= 2 m2: Se deduce el 50% - Huecos > 2 m2: Se deduce el 100% Los huecos que no se deduzcan, o que se deduzcan parcialmente, la medición incluye los trabajos de hacer los retornos, como jambas, dinteles, etc. En el caso que se deduzca el 100% del hueco, se deben medir también estos paramentos. No incluye mano de obra. Toda la maquinaria específica y los insumos necesarios para la instalación están incluidos en el precio.
A17: 01.04 | B17: m2 | C17: CHAPADO PARA FACHADA DE GRANITO | D17: =+VLOOKUP(A17,BBDD!A:J,7,0) -> 8 | E17: =+VLOOKUP(A17,BBDD!A:J,10,0) -> 89 | H17: =D17*$F17 -> 0 | J17: =+D17*$F17/4 -> 0
C18: Suministro de chapado con placas mecanizadas de granito Gris Quintana, acabado pulido, con medidas y despiece según piezas existentes, fijado con adhesivo cementoso mejorado, C2 TE, con deslizamiento reducido y tiempo abierto ampliado, gris, y grapas de anclaje de acero inoxidable; rejuntado con mortero de juntas cementoso, CG1, para junta mínima (entre 1,5 y 3 mm), con la misma tonalidad de las piezas. Criterio de medición: En revestimiento de paramentos, con deducción de la superficie correspondiente a huecos de acuerdo con los criterios siguientes: - Huecos <= 1 m2: No se deducen - Huecos > 1 m2 y <= 2 m2: Se deduce el 50% - Huecos > 2 m2: Se deduce el 100% Los huecos que no se deduzcan, o que se deduzcan parcialmente, la medición incluye los trabajos de hacer los retornos, como jambas, dinteles, etc. En el caso que se deduzca el 100% del hueco, se deben medir también estos paramentos. No incluye mano de obra. Toda la maquinaria específica y los insumos necesarios para la instalación están incluidos en el precio.
A19: 01.05 | B19: ud | C19: CANTONERA | D19: =+VLOOKUP(A19,BBDD!A:J,7,0) -> 8 | E19: =+VLOOKUP(A19,BBDD!A:J,10,0) -> 26 | H19: =D19*$F19 -> 0 | J19: =+D19*$F19/4 -> 0
C20: Suministro de perfil cantonera en sección en L de medidas 30x30mm, de 150cm de longitud de acero inoxidable mate, colocado a 20 cms del suelo. No incluye mano de obra. Toda la maquinaria específica y los insumos necesarios para la instalación están incluidos en el precio.
A21: 01.06 | B21: m2 | C21: REVESTIMIENTO VINÍLICO ACROVYN | D21: =+VLOOKUP(A21,BBDD!A:J,7,0) -> 7.047619 | E21: =+VLOOKUP(A21,BBDD!A:J,10,0) -> 42 | H21: =D21*$F21 -> 0 | J21: =+D21*$F21/4 -> 0
C22: Suministro de revestimiento Vinílico rígido, de 1,5mm de espesor, modelo Acrovyn de la marca C-S Group o equivalente, colocado con adhesivo acrílico de dispersión acuosa y soldado en caliente con cordón celular de diámetro 4 mm. Tratamiento doblado en esquinas para evitar juntas en ellas. Montado a una altura de hasta 1,50 m de altura. Criterio de medición: m2 de superficie medida según las especificaciones del proyecto, con deducción de la superficie correspondiente a huecos, de acuerdo con los siguientes criterios: - Huecos <= 1 m2: No se deducen - Huecos > 1 m2: Se deduce el 100% Estos criterios incluyen el acabado específico de los encuentros con los bordes, sin que conlleve el uso de materiales diferentes de los que normalmente conforman la unidad. No incluye mano de obra. Toda la maquinaria específica y los insumos necesarios para la instalación están incluidos en el precio.
A23: 01.07 | B23: m2 | C23: PINTURA PLÁSTICA | D23: =+VLOOKUP(A23,BBDD!A:J,7,0) -> 217.5 | E23: =+VLOOKUP(A23,BBDD!A:J,10,0) -> 8 | H23: =D23*$F23 -> 0 | J23: =+D23*$F23/4 -> 0
C24: Pintado de paramento vertical/horizontal de yeso, con pintura plástica ecológica lavable, con acabado liso, con una capa selladora y dos de acabado. Color blanco o a elegir por la propiedad. Criterio de medición: con deducción de la superficie correspondiente a huecos de acuerdo con los criterios siguientes: - Huecos <= 4 m2: No se deducen - Huecos > 4 m: Se deduce el 100%Estos criterios incluyen la superficie de los paramentos laterales de la abertura en una profundidad de 30 cm, como máximo, excepto en el caso de las aberturas de más de 4,00 m2 en que esta superficie se medirá expresamente. Incluye la protección de elementos varios, encintado y tapado de agujeros existentes, así como la limpieza de los elementos que configuran la abertura, como los marcos que se hayan ensuciado. No incluye mano de obra. Toda la maquinaria específica y los insumos necesarios para la instalación están incluidos en el precio.
A25: 2 | C25: PAVIMENTOS, ZÓCALOS Y MÁRMOLES
A26: 02.01 | B26: m2 | C26: PARQUET SINTÉTICO AC6 USO INTENSO ROBLE CLARO | D26: =+VLOOKUP(A26,BBDD!A:J,7,0) -> 17 | E26: =+VLOOKUP(A26,BBDD!A:J,10,0) -> 80 | H26: =D26*$F26 -> 0 | J26: =+D26*$F26/4 -> 0
C27: Suministro de parquet flotante con tablas multicapa sintéticas para uso comercial elevado, resistencia AC6, de 1190 a 1800 mm de longitud, de 180 a 300 mm de ancho, 9,5 mm de espesor, con base de tablero de fibras de alta densidad, con unión a presión, colocado sobre lámina de polietileno expandido de 3 mm o PVC solapada 20cm. Marca Pergo Serie Public Extreme acabado Roble o equivalente Criterio de medición: m2 de superficie útil, con deducción de la superficie correspondiente a huecos, pilares o cerramientos de acuerdo con los siguientes criterios: - Huecos <= 1 m2: No se deducen - Huecos > 1 m2: Se deduce el 100% Estos criterios incluyen el acabado específico de los encuentros con los bordes, sin que conlleve el uso de materiales diferentes de los que normalmente conforman la unidad. No incluye mano de obra. Toda la maquinaria específica y los insumos necesarios para la instalación están incluidos en el precio.
A28: 02.02 | B28: m | C28: RODAPIÉ MADERA MISMO MODELO PARQUET SINTÉTICO | D28: =+VLOOKUP(A28,BBDD!A:J,7,0) -> 44 | E28: =+VLOOKUP(A28,BBDD!A:J,10,0) -> 9 | H28: =D28*$F28 -> 0 | J28: =+D28*$F28/4 -> 0
C29: Suministro de zócalo con el mismo acabado de madera barnizada exterior que el parquet con núcleo de MDF, marca PERGO Ref. PGPSKR01801, de 77 mm de altura, colocado con tacos de expansión y tornillos o equivalente. Corte a inglete en giros a 90º. Criterio de medición: m de longitud medida según las especificaciones del proyecto, con deducción de la longitud correspondiente a los huecos, de acuerdo con los siguientes criterios:- Huecos de ancho <= 1 m: Se deduce el 50% - Huecos de ancho > 1 m: Se deduce el 100% No incluye mano de obra. Toda la maquinaria específica y los insumos necesarios para la instalación están incluidos en el precio.
A30: 02.03 | B30: m2 | C30: PAVIMENTO PORCELÁNICO 60x60cm | D30: =+VLOOKUP(A30,BBDD!A:J,7,0) -> 55 | E30: =+VLOOKUP(A30,BBDD!A:J,10,0) -> 35 | H30: =D30*$F30 -> 0 | J30: =+D30*$F30/4 -> 0
C31: Suministro de pavimento interior, de baldosa de gres porcelanico, de forma cuadrada de 60x60, colocadas con adhesivo para baldosa cerámica C2 (UNE-EN 12004), con junta de 2mm y rejuntado con lechada CG2 tipo ref. B21502016 de la serie Materiales para juntas de BUTECH o equivalente (UNE-EN 13888) o lechada de látex color gris oscuro. Marca MARAZZI, modelo EVOLUTION STONE SERENA o equivalente. No incluye mano de obra. Toda la maquinaria específica y los insumos necesarios para la instalación están incluidos en el precio.
A32: 02.04 | B32: m | C32: ZÓCALO BALDOSA GRES PORCELÁNICO | D32: =+VLOOKUP(A32,BBDD!A:J,7,0) -> 29 | E32: =+VLOOKUP(A32,BBDD!A:J,10,0) -> 9 | H32: =D32*$F32 -> 0 | J32: =+D32*$F32/4 -> 0
C33: Zócalo de baldosa de gres porcelánico del mismo material que el pavimento, de 9 cm de altura, tomado con adhesivo para baldosa cerámica C2 TE (UNE-EN 12004) haciendo coincidir juntas con las del pavimento y rejuntado con lechada CG2 (UNE-EN 13888) tipo ref. B21502016 de la serie Materiales para juntas de BUTECH o equivalente o lechada de látex en color gris oscuro. Corte a inglete en giros a 90º. Criterio de medición: m de longitud medida según las especificaciones del proyecto, con deducción de la longitud correspondiente a los huecos, de acuerdo con los siguientes criterios:- Huecos de ancho <= 1 m: Se deduce el 50%. - Huecos de ancho > 1 m: Se deduce el 100%. No incluye mano de obra. Toda la maquinaria específica y los insumos necesarios para la instalación están incluidos en el precio.
A34: 02.05 | B34: m2 | C34: FELPUDO DE ALUMINIO Y MOQUETA | D34: =+VLOOKUP(A34,BBDD!A:J,7,0) -> 7.5 | E34: =+VLOOKUP(A34,BBDD!A:J,10,0) -> 280 | H34: =D34*$F34 -> 0 | J34: =+D34*$F34/4 -> 0
C35: Suministro de felpudo de lamas de aluminio y moqueta de alta absorción de humedad, con bisagras de poliamida para hacerlo enrollable, de la casa Futura, serie Expert ó equivalente, de 17mm de espesor, color de moqueta gris oscuro, con pedido a fabrica a medida y colocado en hueco previsto. No incluye mano de obra. Toda la maquinaria específica y los insumos necesarios para la instalación están incluidos en el precio.
A36: 02.06 | B36: m2 | C36: FELPUDO DE COCO | D36: =+VLOOKUP(A36,BBDD!A:J,7,0) -> 11 | E36: =+VLOOKUP(A36,BBDD!A:J,10,0) -> 29 | H36: =D36*$F36 -> 0 | J36: =+D36*$F36/4 -> 0
C37: Suministro de felpudo con base de PVC de alta resistencia y composición de 100% fibra de coco vegetal, con espesor total 20mm, en color gris antracita. No incluye mano de obra. Toda la maquinaria específica y los insumos necesarios para la instalación están incluidos en el precio.
A38: 3 | C38: YESERIA Y FALSOS TECHOS
A39: 03.01 | B39: m2 | C39: F. TECHO 60x60cm DE FIBRAS MINERALES | D39: =+VLOOKUP(A39,BBDD!A:J,7,0) -> 12.65625 | E39: =+VLOOKUP(A39,BBDD!A:J,10,0) -> 32 | H39: =D39*$F39 -> 0 | J39: =+D39*$F39/4 -> 0
