Workbook

Sheet Resumen económico
B1: DOCUMENTO OFERTA ECONÓMICA
B4: Costes totales SERVICIOS MÓVILES | C4: Coste total (€/mes) | D4: Coste total (2 años)
B5: Costes fijos de servicios móviles | C5: ='Servicios móviles'!F12+'Servicios móviles'!H26 -> 0 | D5: =+C5*24 -> 0
B6: Adquisición terminales | D6: ='Adquisición terminales'!H11 -> 0
B7: Costes de tráfico | C7: ='Servicios móviles'!H54 -> 0 | D7: =+C7*24 -> 0
B8: Gestión del servicio | C8: ='Servicios móviles'!D32 -> 0 | D8: =+C8*24 -> 0
B9: TOTAL Servicios móviles | C9: =SUM(C5:C8) -> 0 | D9: =SUM(D5:D8) -> 0

Sheet Servicios móviles
B1: DOCUMENTO OFERTA ECONÓMICA
B2: El licitador deberá insertar los datos económicos de su propuesta en las casillas identificadas en verde
B5: Costes fijos - Servicios móviles (*)
B7: Interconexión Fijo-Móvil | D7: Unidades | E7: Coste unitario (€/mes) (*) | F7: Coste total (€/mes)
B8: Interconexión Fijo-Móvil | C8: Canales SIP Trunk | D8: 90 | F8: =D8*ROUND(E8,2) -> 0
C9: Rutas SIP Trunk | D9: 1 | F9: =D9*ROUND(E9,2) -> 0
C10: Servicio SIP Trunk - Equipamiento SBC | D10: 1 | F10: =D10*ROUND(E10,2) -> 0
C11: Canales SIP Trunk (paquete de 10 canales) | D11: 1 | F11: =D11*ROUND(E11,2) -> 0
B12: TOTAL Servicios | F12: =SUM(F8:F11) -> 0
B13: (*) Los costes unitarios indicados se mantendrán para futuras ampliaciones de los servicios solicitados inicialmente.
B15: Servicios asociados a perfiles | D15: Voz y datos (**) | E15: Unidades PREVISTAS | F15: Coste máximo unitario (€/mes) | G15: Coste unitario (€/mes) (*) | H15: Coste total (€/mes)
B16: Perfiles | C16: VIP | D16: TP Ilimitada voz y datos + roaming (Europa + Zona A) | E16: 30 | F16: 21 | H16: =IF(G16>F16,"ERROR! EL IMPORTE OFERTADO NO PUEDE SUPERAR EL COSTE MAXIMO UNITARIO",E16*ROUND(G16,2)) -> 0
D17: TP Ilimitada voz y datos | E17: 12 | F17: 16 | H17: =IF(G17>F17,"ERROR! EL IMPORTE OFERTADO NO PUEDE SUPERAR EL COSTE MAXIMO UNITARIO",E17*ROUND(G17,2)) -> 0
C18: Avanzado | D18: TP Ilimitada voz + 20 GB | E18: 130 | F18: 10.5 | H18: =IF(G18>F18,"ERROR! EL IMPORTE OFERTADO NO PUEDE SUPERAR EL COSTE MAXIMO UNITARIO",E18*ROUND(G18,2)) -> 0
C19: Medio | D19: TP 3000 min. voz + 10 GB (datos compartidos) | E19: 200 | F19: 7.2 | H19: =IF(G19>F19,"ERROR! EL IMPORTE OFERTADO NO PUEDE SUPERAR EL COSTE MAXIMO UNITARIO",E19*ROUND(G19,2)) -> 0
D20: TP 3000 min. voz + 3 GB (datos compartidos) | E20: 700 | F20: 4.85 | H20: =IF(G20>F20,"ERROR! EL IMPORTE OFERTADO NO PUEDE SUPERAR EL COSTE MAXIMO UNITARIO",E20*ROUND(G20,2)) -> 0
C21: Sólo datos | D21: 25 Gb | E21: 40 | F21: 10 | H21: =IF(G21>F21,"ERROR! EL IMPORTE OFERTADO NO PUEDE SUPERAR EL COSTE MAXIMO UNITARIO",E21*ROUND(G21,2)) -> 0
D22: Ilimitado datos | E22: 1 | F22: 15 | H22: =IF(G22>F22,"ERROR! EL IMPORTE OFERTADO NO PUEDE SUPERAR EL COSTE MAXIMO UNITARIO",E22*ROUND(G22,2)) -> 0
D23: Bono 1 GB | E23: 1 | F23: 2.5 | H23: =IF(G23>F23,"ERROR! EL IMPORTE OFERTADO NO PUEDE SUPERAR EL COSTE MAXIMO UNITARIO",E23*ROUND(G23,2)) -> 0
D24: Bono 3 GB | E24: 1 | F24: 5 | H24: =IF(G24>F24,"ERROR! EL IMPORTE OFERTADO NO PUEDE SUPERAR EL COSTE MAXIMO UNITARIO",E24*ROUND(G24,2)) -> 0
D25: Bono 10 GB | E25: 1 | F25: 8 | H25: =IF(G25>F25,"ERROR! EL IMPORTE OFERTADO NO PUEDE SUPERAR EL COSTE MAXIMO UNITARIO",E25*ROUND(G25,2)) -> 0
B26: TOTAL Servicios | D26: - | H26: =SUM(H16:H25) -> 0
B27: (*) Los costes unitarios indicados se mantendrán para futuras ampliaciones de los servicios solicitados inicialmente.
B28: (**) Los licitadores indicarán la tarifa igual o superior más aproximada disponible, se indica el número mínimo de Gb de datos.
B30: Gestión del Servicio | D30: Coste total (€/mes)
B31: Service Manager
B32: TOTAL Gestión del servicio | D32: =D31 -> 0
B34: Costes tráfico (*)
B36: Tipo de Tráfico | D36: Llamadas o SMS/mes | E36: Minutos/mes o GB | F36: Establecimiento (€) | G36: Coste minuto (€) | H36: Coste total (€/mes)
B37: Voz Nacional | C37: Voz corporativa - Líneas | D37: 26000 | E37: 77000 | F37: Incluido en tarifa de perfil | H37: 0
C38: Voz corporativa - Primario | D38: 15000 | E38: 44000 | H38: =D38*ROUND(F38,4)+E38*ROUND(G38,4) -> 0
C39: Voz nacional - Líneas | D39: 35000 | E39: 95000 | F39: Incluido en tarifa de perfil | H39: 0
C40: Voz nacional - Primario | D40: 32000 | E40: 88000 | H40: =D40*ROUND(F40,4)+E40*ROUND(G40,4) -> 0
B41: Voz Internacional / Roaming | C41: Internacional | D41: 37 | E41: 243 | F41: Completar pestaña "Internacional" | H41: =Internacional!E11 -> 0
C42: Roaming realizadas (**) | D42: 15 | E42: 85 | F42: Completar pestaña "Roaming" | H42: =Roaming!E9 -> 0
C43: Roaming recibidas (**) | D43: 2 | E43: 20 | F43: Completar pestaña "Roaming" | H43: =Roaming!E15 -> 0
B44: Datos | C44: Datos nacional y zona Europa | D44: 47000 | E44: 1900 | H44: =D44*ROUND(F44,4)+E44*ROUND(G44,4) -> 0
C45: Datos Roaming (**) | D45: 130 | E45: 48 | F45: Completar pestaña "Roaming" | H45: =Roaming!E23 -> 0
B46: SMS/MMS | C46: SMS Internacional | D46: 2 | E46: 0 | F46: Completar pestaña "Internacional" | H46: =Internacional!F15 -> 0
C47: SMS Roaming | D47: 10 | F47: Completar pestaña "Roaming" | H47: =Roaming!E19 -> 0
...

Sheet Adquisición terminales
B1: DOCUMENTO OFERTA ECONÓMICA
B2: El licitador deberá insertar los datos económicos de su propuesta en las casillas identificadas en verde
B3: El licitador deberá insertar los datos técnicos de su propuesta en las casillas identificadas en azul
B6: Servicios asociados a perfiles | D6: Tipo de terminal | E6: Unidades PREVISTAS | F6: Modelo de terminal propuesto | G6: Coste unitario (€) (*) | H6: Coste total (€)
B7: Perfiles | C7: Gama Alta VIP | D7: Terminal móvil gama VIP | E7: 48 | F7: 1 | H7: =E7*ROUND(G7,2) -> 0
C8: Gama Alta | D8: Terminal móvil gama avanzada | E8: 150 | F8: 1 | H8: =E8*ROUND(G8,2) -> 0
C9: Medio | D9: Terminal móvil gama media | E9: 930 | F9: 1 | H9: =E9*ROUND(G9,2) -> 0
C10: Otros Dispositivos | D10: Tabletas | E10: 45 | F10: 1 | H10: =E10*ROUND(G10,2) -> 0
B11: TOTAL Servicios | D11: - | H11: =SUM(H7:H10) -> 0
B12: (*) Los costes unitarios indicados se mantendrán durante toda la vigencia del contrato.

Sheet Internacional
A1: DOCUMENTO OFERTA ECONÓMICA
A2: El licitador deberá insertar los datos de su propuesta en las casillas identificadas en verde
A6: Tráfico Internacional | C6: Minutos/mes | D6: Coste minuto (€) | E6: Coste total (€/mes)
A7: Paises Zona Europa | C7: 240 | E7: =C7*ROUND(D7,2) -> 0
A8: Paises Zona A | C8: 1 | E8: =C8*ROUND(D8,2) -> 0
A9: Paises Zona B | C9: 1 | E9: =C9*ROUND(D9,2) -> 0
A10: Paises Zona C | C10: 1 | E10: =C10*ROUND(D10,2) -> 0
A11: TOTAL | E11: =SUM(E7:E10) -> 0
A13: SMS/MMS Internacional | C13: Volúmen | E13: Establecimiento (€) | F13: Coste total (€/mes)
A14: SMS Internacional | C14: 2 | F14: =E14*ROUND(C14,2) -> 0
A15: TOTAL | F15: =F14 -> 0

Sheet Roaming
A1: DOCUMENTO OFERTA ECONÓMICA
A2: El licitador deberá insertar los datos de su propuesta en las casillas identificadas en verde
A5: Llamadas realizadas en Roaming | C5: Minutos/mes | D5: Coste minuto (€) | E5: Coste total (€/mes)
A6: Paises Zona A | C6: 70 | E6: =C6*ROUND(D6,2) -> 0
A7: Paises Zona B | C7: 10 | E7: =C7*ROUND(D7,2) -> 0
A8: Paises Zona C | C8: 5 | E8: =C8*ROUND(D8,2) -> 0
A9: TOTAL | C9: =SUM(C6:C8) -> 85 | E9: =SUM(E6:E8) -> 0
A11: Llamadas recibidas en Roaming | C11: Minutos/mes | D11: Coste minuto (€) | E11: Coste total (€/mes)
A12: Paises Zona A | C12: 18 | E12: =C12*ROUND(D12,2) -> 0
A13: Paises Zona B | C13: 1 | E13: =C13*ROUND(D13,2) -> 0
A14: Paises Zona C | C14: 1 | E14: =C14*ROUND(D14,2) -> 0
A15: TOTAL | C15: =SUM(C12:C14) -> 20 | E15: =SUM(E12:E14) -> 0
A17: SMS Roaming | C17: Volúmen | D17: Establecimiento (€) | E17: Coste total (€/mes)
A18: SMS Roaming | C18: 10 | E18: =C18*ROUND(D18,2) -> 0
A19: TOTAL | C19: =+SUM(C18:C18) -> 10 | E19: =E18 -> 0
A21: Bonos propuesto datos | C21: Bonos mensuales | D21: Costre (€/Bono) | E21: Coste total (€/mes)
A22: Paises Zona A B C - 1 Gb | C22: 4 | E22: =C22*ROUND(D22,2) -> 0
A23: TOTAL | C23: 4 | E23: =E22 -> 0
